Workbook

Sheet ינואר
A1: ניהול תקציב משפחתי - ינואר
A3: הכנסות | B3: תקציב | C3: בפועל | D3: הערות | G3: סיכום חודשי | J3: מדד | K3: סכום | M3: מדד | N3: סכום
A4: משכורת 1 | G4: סה"כ הכנסות | H4: =C9 -> 0 | J4: הכנסות | K4: =B9 -> 0 | M4: הכנסות | N4: =C9 -> 0
A5: משכורת 2 | G5: הוצאות קבועות | H5: =C27 -> 0 | J5: הוצאות | K5: =B27+B46 -> 0 | M5: הוצאות | N5: =C27+C46 -> 0
A6: קצבאות / ביטוח לאומי | G6: הוצאות משתנות | H6: =C46 -> 0 | J6: תזרים | K6: =B9-(B27+B46) -> 0 | M6: תזרים | N6: =C9-(C27+C46) -> 0
A7: הכנסה נוספת | G7: סה"כ הוצאות | H7: =H5+H6 -> 0
A8: אחר | G8: תזרים חודשי | H8: =H4-H7 -> 0
A9: סה"כ הכנסות | B9: =SUM(B4:B8) -> 0 | C9: =SUM(C4:C8) -> 0 | G9: אחוז חיסכון | H9: =IFERROR(H8/H4,0) -> 0
A11: הוצאות קבועות | B11: תקציב | C11: בפועל | D11: הערות
A12: שכירות / משכנתא
A13: ועד בית
A14: ארנונה
A15: חשמל
A16: מים
A17: גז
A18: אינטרנט
A19: סלולר
A20: ביטוחים
A21: קופות / חיסכון קבוע
A22: הלוואות
A23: חוגים / מסגרות קבועות
... A26: אחר
A27: סה"כ הוצאות קבועות | B27: =SUM(B12:B26) -> 0 | C27: =SUM(C12:C26) -> 0 | F27: =TEXT(K6,"₪#,##0;₪-#,##0;₪0")&" :תזרים מתוכנן" -> ₪0 :תזרים מתוכנן
A30: הוצאות משתנות | B30: תקציב | C30: בפועל | D30: הערות
A31: סופר / מזון
A32: פארם
A33: דלק / תחבורה
A34: מסעדות / קפה
A35: ביגוד והנעלה
A36: בריאות
A37: בילויים
A38: מתנות ואירועים
A39: תחזוקת בית
A40: חינוך / ילדים
A41: חופשות
A42: משיכת מזומן
... A45: אחר
A46: סה"כ הוצאות משתנות | B46: =SUM(B31:B45) -> 0 | C46: =SUM(C31:C45) -> 0
F47: =TEXT(N6,"₪#,##0;₪-#,##0;₪0")&" :תזרים בפועל" -> ₪0 :תזרים בפועל

Sheet פברואר
A1: ניהול תקציב משפחתי - פברואר
A3: הכנסות | B3: תקציב | C3: בפועל | D3: הערות | G3: סיכום חודשי | J3: מדד | K3: סכום | M3: מדד | N3: סכום
A4: =ינואר!A4 -> משכורת 1 | G4: סה"כ הכנסות | H4: =C9 -> 0 | J4: הכנסות | K4: =B9 -> 0 | M4: הכנסות | N4: =C9 -> 0
A5: =ינואר!A5 -> משכורת 2 | G5: הוצאות קבועות | H5: =C27 -> 0 | J5: הוצאות | K5: =B27+B46 -> 0 | M5: הוצאות | N5: =C27+C46 -> 0
A6: =ינואר!A6 -> קצבאות / ביטוח לאומי | G6: הוצאות משתנות | H6: =C46 -> 0 | J6: תזרים | K6: =B9-(B27+B46) -> 0 | M6: תזרים | N6: =C9-(C27+C46) -> 0
A7: =ינואר!A7 -> הכנסה נוספת | G7: סה"כ הוצאות | H7: =H5+H6 -> 0
A8: =ינואר!A8 -> אחר | G8: תזרים חודשי | H8: =H4-H7 -> 0
A9: סה"כ הכנסות | B9: =SUM(B4:B8) -> 0 | C9: =SUM(C4:C8) -> 0 | G9: אחוז חיסכון | H9: =IFERROR(H8/H4,0) -> 0
A11: הוצאות קבועות | B11: תקציב | C11: בפועל | D11: הערות
A12: =ינואר!A12 -> שכירות / משכנתא
A13: =ינואר!A13 -> ועד בית
A14: =ינואר!A14 -> ארנונה
A15: =ינואר!A15 -> חשמל
A16: =ינואר!A16 -> מים
A17: =ינואר!A17 -> גז
A18: =ינואר!A18 -> אינטרנט
A19: =ינואר!A19 -> סלולר
A20: =ינואר!A20 -> ביטוחים
A21: =ינואר!A21 -> קופות / חיסכון קבוע
A22: =ינואר!A22 -> הלוואות
A23: =ינואר!A23 -> חוגים / מסגרות קבועות
... A26: =ינואר!A26 -> אחר
A27: סה"כ הוצאות קבועות | B27: =SUM(B12:B26) -> 0 | C27: =SUM(C12:C26) -> 0 | F27: =TEXT(K6,"₪#,##0;₪-#,##0;₪0")&" :תזרים מתוכנן" -> ₪0 :תזרים מתוכנן
A30: הוצאות משתנות | B30: תקציב | C30: בפועל | D30: הערות
A31: =ינואר!A31 -> סופר / מזון
A32: =ינואר!A32 -> פארם
A33: =ינואר!A33 -> דלק / תחבורה
A34: =ינואר!A34 -> מסעדות / קפה
A35: =ינואר!A35 -> ביגוד והנעלה
A36: =ינואר!A36 -> בריאות
A37: =ינואר!A37 -> בילויים
A38: =ינואר!A38 -> מתנות ואירועים
A39: =ינואר!A39 -> תחזוקת בית
A40: =ינואר!A40 -> חינוך / ילדים
A41: =ינואר!A41 -> חופשות
A42: =ינואר!A42 -> משיכת מזומן
... A45: =ינואר!A45 -> אחר
A46: סה"כ הוצאות משתנות | B46: =SUM(B31:B45) -> 0 | C46: =SUM(C31:C45) -> 0
F47: =TEXT(N6,"₪#,##0;₪-#,##0;₪0")&" :תזרים בפועל" -> ₪0 :תזרים בפועל

Sheet מרץ
A1: ניהול תקציב משפחתי - מרץ
A3: הכנסות | B3: תקציב | C3: בפועל | D3: הערות | G3: סיכום חודשי | J3: מדד | K3: סכום | M3: מדד | N3: סכום
A4: =פברואר!A4 -> משכורת 1 | G4: סה"כ הכנסות | H4: =C9 -> 0 | J4: הכנסות | K4: =B9 -> 0 | M4: הכנסות | N4: =C9 -> 0
A5: =פברואר!A5 -> משכורת 2 | G5: הוצאות קבועות | H5: =C27 -> 0 | J5: הוצאות | K5: =B27+B46 -> 0 | M5: הוצאות | N5: =C27+C46 -> 0
A6: =פברואר!A6 -> קצבאות / ביטוח לאומי | G6: הוצאות משתנות | H6: =C46 -> 0 | J6: תזרים | K6: =B9-(B27+B46) -> 0 | M6: תזרים | N6: =C9-(C27+C46) -> 0
A7: =פברואר!A7 -> הכנסה נוספת | G7: סה"כ הוצאות | H7: =H5+H6 -> 0
A8: =פברואר!A8 -> אחר | G8: תזרים חודשי | H8: =H4-H7 -> 0
A9: סה"כ הכנסות | B9: =SUM(B4:B8) -> 0 | C9: =SUM(C4:C8) -> 0 | G9: אחוז חיסכון | H9: =IFERROR(H8/H4,0) -> 0
A11: הוצאות קבועות | B11: תקציב | C11: בפועל | D11: הערות
A12: =פברואר!A12 -> שכירות / משכנתא
A13: =פברואר!A13 -> ועד בית
A14: =פברואר!A14 -> ארנונה
A15: =פברואר!A15 -> חשמל
A16: =פברואר!A16 -> מים
A17: =פברואר!A17 -> גז
A18: =פברואר!A18 -> אינטרנט
A19: =פברואר!A19 -> סלולר
A20: =פברואר!A20 -> ביטוחים
A21: =פברואר!A21 -> קופות / חיסכון קבוע
A22: =פברואר!A22 -> הלוואות
A23: =פברואר!A23 -> חוגים / מסגרות קבועות
... A26: =פברואר!A26 -> אחר
A27: סה"כ הוצאות קבועות | B27: =SUM(B12:B26) -> 0 | C27: =SUM(C12:C26) -> 0 | F27: =TEXT(K6,"₪#,##0;₪-#,##0;₪0")&" :תזרים מתוכנן" -> ₪0 :תזרים מתוכנן
A30: הוצאות משתנות | B30: תקציב | C30: בפועל | D30: הערות
A31: =פברואר!A31 -> סופר / מזון
A32: =פברואר!A32 -> פארם
A33: =פברואר!A33 -> דלק / תחבורה
A34: =פברואר!A34 -> מסעדות / קפה
A35: =פברואר!A35 -> ביגוד והנעלה
A36: =פברואר!A36 -> בריאות
A37: =פברואר!A37 -> בילויים
A38: =פברואר!A38 -> מתנות ואירועים
A39: =פברואר!A39 -> תחזוקת בית
A40: =פברואר!A40 -> חינוך / ילדים
A41: =פברואר!A41 -> חופשות
A42: =פברואר!A42 -> משיכת מזומן
... A45: =פברואר!A45 -> אחר
A46: סה"כ הוצאות משתנות | B46: =SUM(B31:B45) -> 0 | C46: =SUM(C31:C45) -> 0
F47: =TEXT(N6,"₪#,##0;₪-#,##0;₪0")&" :תזרים בפועל" -> ₪0 :תזרים בפועל

Sheet אפריל
A1: ניהול תקציב משפחתי - אפריל
A3: הכנסות | B3: תקציב | C3: בפועל | D3: הערות | G3: סיכום חודשי | J3: מדד | K3: סכום | M3: מדד | N3: סכום
A4: =מרץ!A4 -> משכורת 1 | G4: סה"כ הכנסות | H4: =C9 -> 0 | J4: הכנסות | K4: =B9 -> 0 | M4: הכנסות | N4: =C9 -> 0
A5: =מרץ!A5 -> משכורת 2 | G5: הוצאות קבועות | H5: =C27 -> 0 | J5: הוצאות | K5: =B27+B46 -> 0 | M5: הוצאות | N5: =C27+C46 -> 0
A6: =מרץ!A6 -> קצבאות / ביטוח לאומי | G6: הוצאות משתנות | H6: =C46 -> 0 | J6: תזרים | K6: =B9-(B27+B46) -> 0 | M6: תזרים | N6: =C9-(C27+C46) -> 0
A7: =מרץ!A7 -> הכנסה נוספת | G7: סה"כ הוצאות | H7: =H5+H6 -> 0
A8: =מרץ!A8 -> אחר | G8: תזרים חודשי | H8: =H4-H7 -> 0
A9: סה"כ הכנסות | B9: =SUM(B4:B8) -> 0 | C9: =SUM(C4:C8) -> 0 | G9: אחוז חיסכון | H9: =IFERROR(H8/H4,0) -> 0
A11: הוצאות קבועות | B11: תקציב | C11: בפועל | D11: הערות
A12: =מרץ!A12 -> שכירות / משכנתא
A13: =מרץ!A13 -> ועד בית
A14: =מרץ!A14 -> ארנונה
A15: =מרץ!A15 -> חשמל
A16: =מרץ!A16 -> מים
A17: =מרץ!A17 -> גז
A18: =מרץ!A18 -> אינטרנט
A19: =מרץ!A19 -> סלולר
A20: =מרץ!A20 -> ביטוחים
A21: =מרץ!A21 -> קופות / חיסכון קבוע
A22: =מרץ!A22 -> הלוואות
A23: =מרץ!A23 -> חוגים / מסגרות קבועות
... A26: =מרץ!A26 -> אחר
A27: סה"כ הוצאות קבועות | B27: =SUM(B12:B26) -> 0 | C27: =SUM(C12:C26) -> 0 | F27: =TEXT(K6,"₪#,##0;₪-#,##0;₪0")&" :תזרים מתוכנן" -> ₪0 :תזרים מתוכנן
A30: הוצאות משתנות | B30: תקציב | C30: בפועל | D30: הערות
A31: =מרץ!A31 -> סופר / מזון
A32: =מרץ!A32 -> פארם
A33: =מרץ!A33 -> דלק / תחבורה
A34: =מרץ!A34 -> מסעדות / קפה
A35: =מרץ!A35 -> ביגוד והנעלה
A36: =מרץ!A36 -> בריאות
A37: =מרץ!A37 -> בילויים
A38: =מרץ!A38 -> מתנות ואירועים
A39: =מרץ!A39 -> תחזוקת בית
A40: =מרץ!A40 -> חינוך / ילדים
A41: =מרץ!A41 -> חופשות
A42: =מרץ!A42 -> משיכת מזומן
... A45: =מרץ!A45 -> אחר
A46: סה"כ הוצאות משתנות | B46: =SUM(B31:B45) -> 0 | C46: =SUM(C31:C45) -> 0
F47: =TEXT(N6,"₪#,##0;₪-#,##0;₪0")&" :תזרים בפועל" -> ₪0 :תזרים בפועל

Sheet מאי
A1: ניהול תקציב משפחתי - מאי
A3: הכנסות | B3: תקציב | C3: בפועל | D3: הערות | G3: סיכום חודשי | J3: מדד | K3: סכום | M3: מדד | N3: סכום
A4: =אפריל!A4 -> משכורת 1 | G4: סה"כ הכנסות | H4: =C9 -> 0 | J4: הכנסות | K4: =B9 -> 0 | M4: הכנסות | N4: =C9 -> 0
A5: =אפריל!A5 -> משכורת 2 | G5: הוצאות קבועות | H5: =C27 -> 0 | J5: הוצאות | K5: =B27+B46 -> 0 | M5: הוצאות | N5: =C27+C46 -> 0
A6: =אפריל!A6 -> קצבאות / ביטוח לאומי | G6: הוצאות משתנות | H6: =C46 -> 0 | J6: תזרים | K6: =B9-(B27+B46) -> 0 | M6: תזרים | N6: =C9-(C27+C46) -> 0
A7: =אפריל!A7 -> הכנסה נוספת | G7: סה"כ הוצאות | H7: =H5+H6 -> 0
A8: =אפריל!A8 -> אחר | G8: תזרים חודשי | H8: =H4-H7 -> 0
A9: סה"כ הכנסות | B9: =SUM(B4:B8) -> 0 | C9: =SUM(C4:C8) -> 0 | G9: אחוז חיסכון | H9: =IFERROR(H8/H4,0) -> 0
A11: הוצאות קבועות | B11: תקציב | C11: בפועל | D11: הערות
A12: =אפריל!A12 -> שכירות / משכנתא
A13: =אפריל!A13 -> ועד בית
A14: =אפריל!A14 -> ארנונה
A15: =אפריל!A15 -> חשמל
A16: =אפריל!A16 -> מים
A17: =אפריל!A17 -> גז
A18: =אפריל!A18 -> אינטרנט
A19: =אפריל!A19 -> סלולר
A20: =אפריל!A20 -> ביטוחים
A21: =אפריל!A21 -> קופות / חיסכון קבוע
A22: =אפריל!A22 -> הלוואות
A23: =אפריל!A23 -> חוגים / מסגרות קבועות
... A26: =אפריל!A26 -> אחר
A27: סה"כ הוצאות קבועות | B27: =SUM(B12:B26) -> 0 | C27: =SUM(C12:C26) -> 0 | F27: =TEXT(K6,"₪#,##0;₪-#,##0;₪0")&" :תזרים מתוכנן" -> ₪0 :תזרים מתוכנן
A30: הוצאות משתנות | B30: תקציב | C30: בפועל | D30: הערות
A31: =אפריל!A31 -> סופר / מזון
A32: =אפריל!A32 -> פארם
A33: =אפריל!A33 -> דלק / תחבורה
A34: =אפריל!A34 -> מסעדות / קפה
A35: =אפריל!A35 -> ביגוד והנעלה
A36: =אפריל!A36 -> בריאות
A37: =אפריל!A37 -> בילויים
A38: =אפריל!A38 -> מתנות ואירועים
A39: =אפריל!A39 -> תחזוקת בית
A40: =אפריל!A40 -> חינוך / ילדים
A41: =אפריל!A41 -> חופשות
A42: =אפריל!A42 -> משיכת מזומן
... A45: =אפריל!A45 -> אחר
A46: סה"כ הוצאות משתנות | B46: =SUM(B31:B45) -> 0 | C46: =SUM(C31:C45) -> 0
F47: =TEXT(N6,"₪#,##0;₪-#,##0;₪0")&" :תזרים בפועל" -> ₪0 :תזרים בפועל

Sheet יוני
A1: ניהול תקציב משפחתי - יוני
A3: הכנסות | B3: תקציב | C3: בפועל | D3: הערות | G3: סיכום חודשי | J3: מדד | K3: סכום | M3: מדד | N3: סכום
A4: =מאי!A4 -> משכורת 1 | G4: סה"כ הכנסות | H4: =C9 -> 0 | J4: הכנסות | K4: =B9 -> 0 | M4: הכנסות | N4: =C9 -> 0
A5: =מאי!A5 -> משכורת 2 | G5: הוצאות קבועות | H5: =C27 -> 0 | J5: הוצאות | K5: =B27+B46 -> 0 | M5: הוצאות | N5: =C27+C46 -> 0
A6: =מאי!A6 -> קצבאות / ביטוח לאומי | G6: הוצאות משתנות | H6: =C46 -> 0 | J6: תזרים | K6: =B9-(B27+B46) -> 0 | M6: תזרים | N6: =C9-(C27+C46) -> 0
A7: =מאי!A7 -> הכנסה נוספת | G7: סה"כ הוצאות | H7: =H5+H6 -> 0
A8: =מאי!A8 -> אחר | G8: תזרים חודשי | H8: =H4-H7 -> 0
A9: סה"כ הכנסות | B9: =SUM(B4:B8) -> 0 | C9: =SUM(C4:C8) -> 0 | G9: אחוז חיסכון | H9: =IFERROR(H8/H4,0) -> 0
A11: הוצאות קבועות | B11: תקציב | C11: בפועל | D11: הערות
A12: =מאי!A12 -> שכירות / משכנתא
A13: =מאי!A13 -> ועד בית
A14: =מאי!A14 -> ארנונה
A15: =מאי!A15 -> חשמל
A16: =מאי!A16 -> מים
A17: =מאי!A17 -> גז
A18: =מאי!A18 -> אינטרנט
A19: =מאי!A19 -> סלולר
A20: =מאי!A20 -> ביטוחים
A21: =מאי!A21 -> קופות / חיסכון קבוע
A22: =מאי!A22 -> הלוואות
A23: =מאי!A23 -> חוגים / מסגרות קבועות
... A26: =מאי!A26 -> אחר
A27: סה"כ הוצאות קבועות | B27: =SUM(B12:B26) -> 0 | C27: =SUM(C12:C26) -> 0 | F27: =TEXT(K6,"₪#,##0;₪-#,##0;₪0")&" :תזרים מתוכנן" -> ₪0 :תזרים מתוכנן
A30: הוצאות משתנות | B30: תקציב | C30: בפועל | D30: הערות
A31: =מאי!A31 -> סופר / מזון
A32: =מאי!A32 -> פארם
A33: =מאי!A33 -> דלק / תחבורה
A34: =מאי!A34 -> מסעדות / קפה
A35: =מאי!A35 -> ביגוד והנעלה
A36: =מאי!A36 -> בריאות
A37: =מאי!A37 -> בילויים
A38: =מאי!A38 -> מתנות ואירועים
A39: =מאי!A39 -> תחזוקת בית
A40: =מאי!A40 -> חינוך / ילדים
A41: =מאי!A41 -> חופשות
A42: =מאי!A42 -> משיכת מזומן
... A45: =מאי!A45 -> אחר
A46: סה"כ הוצאות משתנות | B46: =SUM(B31:B45) -> 0 | C46: =SUM(C31:C45) -> 0
F47: =TEXT(N6,"₪#,##0;₪-#,##0;₪0")&" :תזרים בפועל" -> ₪0 :תזרים בפועל

Sheet יולי
A1: ניהול תקציב משפחתי - יולי
A3: הכנסות | B3: תקציב | C3: בפועל | D3: הערות | G3: סיכום חודשי | J3: מדד | K3: סכום | M3: מדד | N3: סכום
A4: =יוני!A4 -> משכורת 1 | G4: סה"כ הכנסות | H4: =C9 -> 0 | J4: הכנסות | K4: =B9 -> 0 | M4: הכנסות | N4: =C9 -> 0
A5: =יוני!A5 -> משכורת 2 | G5: הוצאות קבועות | H5: =C27 -> 0 | J5: הוצאות | K5: =B27+B46 -> 0 | M5: הוצאות | N5: =C27+C46 -> 0
A6: =יוני!A6 -> קצבאות / ביטוח לאומי | G6: הוצאות משתנות | H6: =C46 -> 0 | J6: תזרים | K6: =B9-(B27+B46) -> 0 | M6: תזרים | N6: =C9-(C27+C46) -> 0
A7: =יוני!A7 -> הכנסה נוספת | G7: סה"כ הוצאות | H7: =H5+H6 -> 0
A8: =יוני!A8 -> אחר | G8: תזרים חודשי | H8: =H4-H7 -> 0
A9: סה"כ הכנסות | B9: =SUM(B4:B8) -> 0 | C9: =SUM(C4:C8) -> 0 | G9: אחוז חיסכון | H9: =IFERROR(H8/H4,0) -> 0
A11: הוצאות קבועות | B11: תקציב | C11: בפועל | D11: הערות
A12: =יוני!A12 -> שכירות / משכנתא
A13: =יוני!A13 -> ועד בית
A14: =יוני!A14 -> ארנונה
A15: =יוני!A15 -> חשמל
A16: =יוני!A16 -> מים
A17: =יוני!A17 -> גז
A18: =יוני!A18 -> אינטרנט
A19: =יוני!A19 -> סלולר
A20: =יוני!A20 -> ביטוחים
A21: =יוני!A21 -> קופות / חיסכון קבוע
A22: =יוני!A22 -> הלוואות
A23: =יוני!A23 -> חוגים / מסגרות קבועות
... A26: =יוני!A26 -> אחר
A27: סה"כ הוצאות קבועות | B27: =SUM(B12:B26) -> 0 | C27: =SUM(C12:C26) -> 0 | F27: =TEXT(K6,"₪#,##0;₪-#,##0;₪0")&" :תזרים מתוכנן" -> ₪0 :תזרים מתוכנן
A30: הוצאות משתנות | B30: תקציב | C30: בפועל | D30: הערות
A31: =יוני!A31 -> סופר / מזון
A32: =יוני!A32 -> פארם
A33: =יוני!A33 -> דלק / תחבורה
A34: =יוני!A34 -> מסעדות / קפה
A35: =יוני!A35 -> ביגוד והנעלה
A36: =יוני!A36 -> בריאות
A37: =יוני!A37 -> בילויים
A38: =יוני!A38 -> מתנות ואירועים
A39: =יוני!A39 -> תחזוקת בית
A40: =יוני!A40 -> חינוך / ילדים
A41: =יוני!A41 -> חופשות
A42: =יוני!A42 -> משיכת מזומן
... A45: =יוני!A45 -> אחר
A46: סה"כ הוצאות משתנות | B46: =SUM(B31:B45) -> 0 | C46: =SUM(C31:C45) -> 0
F47: =TEXT(N6,"₪#,##0;₪-#,##0;₪0")&" :תזרים בפועל" -> ₪0 :תזרים בפועל

Sheet אוגוסט
A1: ניהול תקציב משפחתי - אוגוסט
A3: הכנסות | B3: תקציב | C3: בפועל | D3: הערות | G3: סיכום חודשי | J3: מדד | K3: סכום | M3: מדד | N3: סכום
A4: =יולי!A4 -> משכורת 1 | G4: סה"כ הכנסות | H4: =C9 -> 0 | J4: הכנסות | K4: =B9 -> 0 | M4: הכנסות | N4: =C9 -> 0
A5: =יולי!A5 -> משכורת 2 | G5: הוצאות קבועות | H5: =C27 -> 0 | J5: הוצאות | K5: =B27+B46 -> 0 | M5: הוצאות | N5: =C27+C46 -> 0
A6: =יולי!A6 -> קצבאות / ביטוח לאומי | G6: הוצאות משתנות | H6: =C46 -> 0 | J6: תזרים | K6: =B9-(B27+B46) -> 0 | M6: תזרים | N6: =C9-(C27+C46) -> 0
A7: =יולי!A7 -> הכנסה נוספת | G7: סה"כ הוצאות | H7: =H5+H6 -> 0
A8: =יולי!A8 -> אחר | G8: תזרים חודשי | H8: =H4-H7 -> 0
A9: סה"כ הכנסות | B9: =SUM(B4:B8) -> 0 | C9: =SUM(C4:C8) -> 0 | G9: אחוז חיסכון | H9: =IFERROR(H8/H4,0) -> 0
A11: הוצאות קבועות | B11: תקציב | C11: בפועל | D11: הערות
A12: =יולי!A12 -> שכירות / משכנתא
A13: =יולי!A13 -> ועד בית
A14: =יולי!A14 -> ארנונה
A15: =יולי!A15 -> חשמל
A16: =יולי!A16 -> מים
A17: =יולי!A17 -> גז
A18: =יולי!A18 -> אינטרנט
A19: =יולי!A19 -> סלולר
A20: =יולי!A20 -> ביטוחים
A21: =יולי!A21 -> קופות / חיסכון קבוע
A22: =יולי!A22 -> הלוואות
A23: =יולי!A23 -> חוגים / מסגרות קבועות
... A26: =יולי!A26 -> אחר
A27: סה"כ הוצאות קבועות | B27: =SUM(B12:B26) -> 0 | C27: =SUM(C12:C26) -> 0 | F27: =TEXT(K6,"₪#,##0;₪-#,##0;₪0")&" :תזרים מתוכנן" -> ₪0 :תזרים מתוכנן
A30: הוצאות משתנות | B30: תקציב | C30: בפועל | D30: הערות
A31: =יולי!A31 -> סופר / מזון
A32: =יולי!A32 -> פארם
A33: =יולי!A33 -> דלק / תחבורה
A34: =יולי!A34 -> מסעדות / קפה
A35: =יולי!A35 -> ביגוד והנעלה
A36: =יולי!A36 -> בריאות
A37: =יולי!A37 -> בילויים
A38: =יולי!A38 -> מתנות ואירועים
A39: =יולי!A39 -> תחזוקת בית
A40: =יולי!A40 -> חינוך / ילדים
A41: =יולי!A41 -> חופשות
A42: =יולי!A42 -> משיכת מזומן
... A45: =יולי!A45 -> אחר
A46: סה"כ הוצאות משתנות | B46: =SUM(B31:B45) -> 0 | C46: =SUM(C31:C45) -> 0
F47: =TEXT(N6,"₪#,##0;₪-#,##0;₪0")&" :תזרים בפועל" -> ₪0 :תזרים בפועל

Sheet ספטמבר
A1: ניהול תקציב משפחתי - ספטמבר
A3: הכנסות | B3: תקציב | C3: בפועל | D3: הערות | G3: סיכום חודשי | J3: מדד | K3: סכום | M3: מדד | N3: סכום
A4: =אוגוסט!A4 -> משכורת 1 | G4: סה"כ הכנסות | H4: =C9 -> 0 | J4: הכנסות | K4: =B9 -> 0 | M4: הכנסות | N4: =C9 -> 0 | S4: #VALUE!
A5: =אוגוסט!A5 -> משכורת 2 | G5: הוצאות קבועות | H5: =C27 -> 0 | J5: הוצאות | K5: =B27+B46 -> 0 | M5: הוצאות | N5: =C27+C46 -> 0
A6: =אוגוסט!A6 -> קצבאות / ביטוח לאומי | G6: הוצאות משתנות | H6: =C46 -> 0 | J6: תזרים | K6: =B9-(B27+B46) -> 0 | M6: תזרים | N6: =C9-(C27+C46) -> 0
A7: =אוגוסט!A7 -> הכנסה נוספת | G7: סה"כ הוצאות | H7: =H5+H6 -> 0
A8: =אוגוסט!A8 -> אחר | G8: תזרים חודשי | H8: =H4-H7 -> 0
A9: סה"כ הכנסות | B9: =SUM(B4:B8) -> 0 | C9: =SUM(C4:C8) -> 0 | G9: אחוז חיסכון | H9: =IFERROR(H8/H4,0) -> 0
A11: הוצאות קבועות | B11: תקציב | C11: בפועל | D11: הערות
A12: =אוגוסט!A12 -> שכירות / משכנתא
A13: =אוגוסט!A13 -> ועד בית
A14: =אוגוסט!A14 -> ארנונה
A15: =אוגוסט!A15 -> חשמל
A16: =אוגוסט!A16 -> מים
A17: =אוגוסט!A17 -> גז
A18: =אוגוסט!A18 -> אינטרנט
A19: =אוגוסט!A19 -> סלולר
A20: =אוגוסט!A20 -> ביטוחים
A21: =אוגוסט!A21 -> קופות / חיסכון קבוע
A22: =אוגוסט!A22 -> הלוואות
A23: =אוגוסט!A23 -> חוגים / מסגרות קבועות
... A26: =אוגוסט!A26 -> אחר
A27: סה"כ הוצאות קבועות | B27: =SUM(B12:B26) -> 0 | C27: =SUM(C12:C26) -> 0 | F27: =TEXT(K6,"₪#,##0;₪-#,##0;₪0")&" :תזרים מתוכנן" -> ₪0 :תזרים מתוכנן
A30: הוצאות משתנות | B30: תקציב | C30: בפועל | D30: הערות
A31: =אוגוסט!A31 -> סופר / מזון
A32: =אוגוסט!A32 -> פארם
A33: =אוגוסט!A33 -> דלק / תחבורה
A34: =אוגוסט!A34 -> מסעדות / קפה
A35: =אוגוסט!A35 -> ביגוד והנעלה
A36: =אוגוסט!A36 -> בריאות
A37: =אוגוסט!A37 -> בילויים
A38: =אוגוסט!A38 -> מתנות ואירועים
A39: =אוגוסט!A39 -> תחזוקת בית
A40: =אוגוסט!A40 -> חינוך / ילדים
A41: =אוגוסט!A41 -> חופשות
A42: =אוגוסט!A42 -> משיכת מזומן
... A45: =אוגוסט!A45 -> אחר
A46: סה"כ הוצאות משתנות | B46: =SUM(B31:B45) -> 0 | C46: =SUM(C31:C45) -> 0
F47: =TEXT(N6,"₪#,##0;₪-#,##0;₪0")&" :תזרים בפועל" -> ₪0 :תזרים בפועל

Sheet אוקטובר
A1: ניהול תקציב משפחתי - אוקטובר
A3: הכנסות | B3: תקציב | C3: בפועל | D3: הערות | G3: סיכום חודשי | J3: מדד | K3: סכום | M3: מדד | N3: סכום
A4: =ספטמבר!A4 -> משכורת 1 | G4: סה"כ הכנסות | H4: =C9 -> 0 | J4: הכנסות | K4: =B9 -> 0 | M4: הכנסות | N4: =C9 -> 0
A5: =ספטמבר!A5 -> משכורת 2 | G5: הוצאות קבועות | H5: =C27 -> 0 | J5: הוצאות | K5: =B27+B46 -> 0 | M5: הוצאות | N5: =C27+C46 -> 0
A6: =ספטמבר!A6 -> קצבאות / ביטוח לאומי | G6: הוצאות משתנות | H6: =C46 -> 0 | J6: תזרים | K6: =B9-(B27+B46) -> 0 | M6: תזרים | N6: =C9-(C27+C46) -> 0
A7: =ספטמבר!A7 -> הכנסה נוספת | G7: סה"כ הוצאות | H7: =H5+H6 -> 0
A8: =ספטמבר!A8 -> אחר | G8: תזרים חודשי | H8: =H4-H7 -> 0
A9: סה"כ הכנסות | B9: =SUM(B4:B8) -> 0 | C9: =SUM(C4:C8) -> 0 | G9: אחוז חיסכון | H9: =IFERROR(H8/H4,0) -> 0
A11: הוצאות קבועות | B11: תקציב | C11: בפועל | D11: הערות
A12: =ספטמבר!A12 -> שכירות / משכנתא
A13: =ספטמבר!A13 -> ועד בית
A14: =ספטמבר!A14 -> ארנונה
A15: =ספטמבר!A15 -> חשמל
A16: =ספטמבר!A16 -> מים
A17: =ספטמבר!A17 -> גז
A18: =ספטמבר!A18 -> אינטרנט
A19: =ספטמבר!A19 -> סלולר
A20: =ספטמבר!A20 -> ביטוחים
A21: =ספטמבר!A21 -> קופות / חיסכון קבוע
A22: =ספטמבר!A22 -> הלוואות
A23: =ספטמבר!A23 -> חוגים / מסגרות קבועות
... A26: =ספטמבר!A26 -> אחר
A27: סה"כ הוצאות קבועות | B27: =SUM(B12:B26) -> 0 | C27: =SUM(C12:C26) -> 0 | F27: =TEXT(K6,"₪#,##0;₪-#,##0;₪0")&" :תזרים מתוכנן" -> ₪0 :תזרים מתוכנן
A30: הוצאות משתנות | B30: תקציב | C30: בפועל | D30: הערות
A31: =ספטמבר!A31 -> סופר / מזון
A32: =ספטמבר!A32 -> פארם
A33: =ספטמבר!A33 -> דלק / תחבורה
A34: =ספטמבר!A34 -> מסעדות / קפה
A35: =ספטמבר!A35 -> ביגוד והנעלה
A36: =ספטמבר!A36 -> בריאות
A37: =ספטמבר!A37 -> בילויים
A38: =ספטמבר!A38 -> מתנות ואירועים
A39: =ספטמבר!A39 -> תחזוקת בית
A40: =ספטמבר!A40 -> חינוך / ילדים
A41: =ספטמבר!A41 -> חופשות
A42: =ספטמבר!A42 -> משיכת מזומן
... A45: =ספטמבר!A45 -> אחר
A46: סה"כ הוצאות משתנות | B46: =SUM(B31:B45) -> 0 | C46: =SUM(C31:C45) -> 0
F47: =TEXT(N6,"₪#,##0;₪-#,##0;₪0")&" :תזרים בפועל" -> ₪0 :תזרים בפועל

Sheet נובמבר
A1: ניהול תקציב משפחתי - נובמבר
A3: הכנסות | B3: תקציב | C3: בפועל | D3: הערות | G3: סיכום חודשי | J3: מדד | K3: סכום | M3: מדד | N3: סכום
A4: =אוקטובר!A4 -> משכורת 1 | G4: סה"כ הכנסות | H4: =C9 -> 0 | J4: הכנסות | K4: =B9 -> 0 | M4: הכנסות | N4: =C9 -> 0
A5: =אוקטובר!A5 -> משכורת 2 | G5: הוצאות קבועות | H5: =C27 -> 0 | J5: הוצאות | K5: =B27+B46 -> 0 | M5: הוצאות | N5: =C27+C46 -> 0
A6: =אוקטובר!A6 -> קצבאות / ביטוח לאומי | G6: הוצאות משתנות | H6: =C46 -> 0 | J6: תזרים | K6: =B9-(B27+B46) -> 0 | M6: תזרים | N6: =C9-(C27+C46) -> 0
A7: =אוקטובר!A7 -> הכנסה נוספת | G7: סה"כ הוצאות | H7: =H5+H6 -> 0
A8: =אוקטובר!A8 -> אחר | G8: תזרים חודשי | H8: =H4-H7 -> 0
A9: סה"כ הכנסות | B9: =SUM(B4:B8) -> 0 | C9: =SUM(C4:C8) -> 0 | G9: אחוז חיסכון | H9: =IFERROR(H8/H4,0) -> 0
A11: הוצאות קבועות | B11: תקציב | C11: בפועל | D11: הערות
A12: =אוקטובר!A12 -> שכירות / משכנתא
A13: =אוקטובר!A13 -> ועד בית
A14: =אוקטובר!A14 -> ארנונה
A15: =אוקטובר!A15 -> חשמל
A16: =אוקטובר!A16 -> מים
A17: =אוקטובר!A17 -> גז
A18: =אוקטובר!A18 -> אינטרנט
A19: =אוקטובר!A19 -> סלולר
A20: =אוקטובר!A20 -> ביטוחים
A21: =אוקטובר!A21 -> קופות / חיסכון קבוע
A22: =אוקטובר!A22 -> הלוואות
A23: =אוקטובר!A23 -> חוגים / מסגרות קבועות
... A26: =אוקטובר!A26 -> אחר
A27: סה"כ הוצאות קבועות | B27: =SUM(B12:B26) -> 0 | C27: =SUM(C12:C26) -> 0 | F27: =TEXT(K6,"₪#,##0;₪-#,##0;₪0")&" :תזרים מתוכנן" -> ₪0 :תזרים מתוכנן
A30: הוצאות משתנות | B30: תקציב | C30: בפועל | D30: הערות
A31: =אוקטובר!A31 -> סופר / מזון
A32: =אוקטובר!A32 -> פארם
A33: =אוקטובר!A33 -> דלק / תחבורה
A34: =אוקטובר!A34 -> מסעדות / קפה
A35: =אוקטובר!A35 -> ביגוד והנעלה
A36: =אוקטובר!A36 -> בריאות
A37: =אוקטובר!A37 -> בילויים
A38: =אוקטובר!A38 -> מתנות ואירועים
A39: =אוקטובר!A39 -> תחזוקת בית
A40: =אוקטובר!A40 -> חינוך / ילדים
A41: =אוקטובר!A41 -> חופשות
A42: =אוקטובר!A42 -> משיכת מזומן
... A45: =אוקטובר!A45 -> אחר
A46: סה"כ הוצאות משתנות | B46: =SUM(B31:B45) -> 0 | C46: =SUM(C31:C45) -> 0
F47: =TEXT(N6,"₪#,##0;₪-#,##0;₪0")&" :תזרים בפועל" -> ₪0 :תזרים בפועל

Sheet דצמבר
A1: ניהול תקציב משפחתי - דצמבר
A3: הכנסות | B3: תקציב | C3: בפועל | D3: הערות | G3: סיכום חודשי | J3: מדד | K3: סכום | M3: מדד | N3: סכום
A4: =נובמבר!A4 -> משכורת 1 | G4: סה"כ הכנסות | H4: =C9 -> 0 | J4: הכנסות | K4: =B9 -> 0 | M4: הכנסות | N4: =C9 -> 0
A5: =נובמבר!A5 -> משכורת 2 | G5: הוצאות קבועות | H5: =C27 -> 0 | J5: הוצאות | K5: =B27+B46 -> 0 | M5: הוצאות | N5: =C27+C46 -> 0
A6: =נובמבר!A6 -> קצבאות / ביטוח לאומי | G6: הוצאות משתנות | H6: =C46 -> 0 | J6: תזרים | K6: =B9-(B27+B46) -> 0 | M6: תזרים | N6: =C9-(C27+C46) -> 0
A7: =נובמבר!A7 -> הכנסה נוספת | G7: סה"כ הוצאות | H7: =H5+H6 -> 0
A8: =נובמבר!A8 -> אחר | G8: תזרים חודשי | H8: =H4-H7 -> 0
A9: סה"כ הכנסות | B9: =SUM(B4:B8) -> 0 | C9: =SUM(C4:C8) -> 0 | G9: אחוז חיסכון | H9: =IFERROR(H8/H4,0) -> 0
A11: הוצאות קבועות | B11: תקציב | C11: בפועל | D11: הערות
A12: =נובמבר!A12 -> שכירות / משכנתא
A13: =נובמבר!A13 -> ועד בית
A14: =נובמבר!A14 -> ארנונה
A15: =נובמבר!A15 -> חשמל
A16: =נובמבר!A16 -> מים
A17: =נובמבר!A17 -> גז
A18: =נובמבר!A18 -> אינטרנט
A19: =נובמבר!A19 -> סלולר
A20: =נובמבר!A20 -> ביטוחים
A21: =נובמבר!A21 -> קופות / חיסכון קבוע
A22: =נובמבר!A22 -> הלוואות
A23: =נובמבר!A23 -> חוגים / מסגרות קבועות
... A26: =נובמבר!A26 -> אחר
A27: סה"כ הוצאות קבועות | B27: =SUM(B12:B26) -> 0 | C27: =SUM(C12:C26) -> 0 | F27: =TEXT(K6,"₪#,##0;₪-#,##0;₪0")&" :תזרים מתוכנן" -> ₪0 :תזרים מתוכנן
A30: הוצאות משתנות | B30: תקציב | C30: בפועל | D30: הערות
A31: =נובמבר!A31 -> סופר / מזון
A32: =נובמבר!A32 -> פארם
A33: =נובמבר!A33 -> דלק / תחבורה
A34: =נובמבר!A34 -> מסעדות / קפה
A35: =נובמבר!A35 -> ביגוד והנעלה
A36: =נובמבר!A36 -> בריאות
A37: =נובמבר!A37 -> בילויים
A38: =נובמבר!A38 -> מתנות ואירועים
A39: =נובמבר!A39 -> תחזוקת בית
A40: =נובמבר!A40 -> חינוך / ילדים
A41: =נובמבר!A41 -> חופשות
A42: =נובמבר!A42 -> משיכת מזומן
... A45: =נובמבר!A45 -> אחר
A46: סה"כ הוצאות משתנות | B46: =SUM(B31:B45) -> 0 | C46: =SUM(C31:C45) -> 0
F47: =TEXT(N6,"₪#,##0;₪-#,##0;₪0")&" :תזרים בפועל" -> ₪0 :תזרים בפועל

Sheet סיכום שנתי
A1: סיכום שנתי - תקציב משפחתי
A3: חודש | B3: הכנסות | C3: הוצאות | D3: תזרים | E3: אחוז חיסכון
A4: ינואר | B4: =ינואר!H4 -> 0 | C4: =ינואר!H7 -> 0 | D4: =ינואר!H8 -> 0 | E4: =ינואר!H9 -> 0
A5: פברואר | B5: =פברואר!H4 -> 0 | C5: =פברואר!H7 -> 0 | D5: =פברואר!H8 -> 0 | E5: =פברואר!H9 -> 0
A6: מרץ | B6: =מרץ!H4 -> 0 | C6: =מרץ!H7 -> 0 | D6: =מרץ!H8 -> 0 | E6: =מרץ!H9 -> 0
A7: אפריל | B7: =אפריל!H4 -> 0 | C7: =אפריל!H7 -> 0 | D7: =אפריל!H8 -> 0 | E7: =אפריל!H9 -> 0
A8: מאי | B8: =מאי!H4 -> 0 | C8: =מאי!H7 -> 0 | D8: =מאי!H8 -> 0 | E8: =מאי!H9 -> 0
A9: יוני | B9: =יוני!H4 -> 0 | C9: =יוני!H7 -> 0 | D9: =יוני!H8 -> 0 | E9: =יוני!H9 -> 0
A10: יולי | B10: =יולי!H4 -> 0 | C10: =יולי!H7 -> 0 | D10: =יולי!H8 -> 0 | E10: =יולי!H9 -> 0
A11: אוגוסט | B11: =אוגוסט!H4 -> 0 | C11: =אוגוסט!H7 -> 0 | D11: =אוגוסט!H8 -> 0 | E11: =אוגוסט!H9 -> 0
A12: ספטמבר | B12: =ספטמבר!H4 -> 0 | C12: =ספטמבר!H7 -> 0 | D12: =ספטמבר!H8 -> 0 | E12: =ספטמבר!H9 -> 0
A13: אוקטובר | B13: =אוקטובר!H4 -> 0 | C13: =אוקטובר!H7 -> 0 | D13: =אוקטובר!H8 -> 0 | E13: =אוקטובר!H9 -> 0
A14: נובמבר | B14: =נובמבר!H4 -> 0 | C14: =נובמבר!H7 -> 0 | D14: =נובמבר!H8 -> 0 | E14: =נובמבר!H9 -> 0
A15: דצמבר | B15: =דצמבר!H4 -> 0 | C15: =דצמבר!H7 -> 0 | D15: =דצמבר!H8 -> 0 | E15: =דצמבר!H9 -> 0
A16: סה"כ שנתי | B16: =SUM(B4:B15) -> 0 | C16: =SUM(C4:C15) -> 0 | D16: =SUM(D4:D15) -> 0 | E16: =IFERROR(D16/B16,0) -> 0
A17: ממוצע חודשי | B17: =IF(COUNTA(B4:B15)=0,"",SUM(B4:B15)/COUNTIF(B4:B15,"<>0")) -> #DIV/0! | C17: =IF(COUNTA(C4:C15)=0,"",SUM(C4:C15)/COUNTIF(C4:C15,"<>0")) -> #DIV/0! | D17: =IF(COUNTA(D4:D15)=0,"",SUM(D4:D15)/COUNTIF(D4:D15,"<>0")) -> #DIV/0! | E17: =IFERROR(D17/B17,0) -> 0
G22: =TEXT(D16,"₪#,##0;₪-#,##0;₪0")&" :תזרים שנתי" -> ₪0 :תזרים שנתי
